BEGIN:VCALENDAR
VERSION:2.0
PRODID:-// - ECPv6.15.20//NONSGML v1.0//EN
CALSCALE:GREGORIAN
METHOD:PUBLISH
X-ORIGINAL-URL:https://grebe-evopaed.de
X-WR-CALDESC:Veranstaltungen für 
REFRESH-INTERVAL;VALUE=DURATION:PT1H
X-Robots-Tag:noindex
X-PUBLISHED-TTL:PT1H
BEGIN:VTIMEZONE
TZID:UTC
BEGIN:STANDARD
TZOFFSETFROM:+0000
TZOFFSETTO:+0000
TZNAME:UTC
DTSTART:20250101T000000
END:STANDARD
END:VTIMEZONE
BEGIN:VEVENT
DTSTART;TZID=UTC:20260509T093000
DTEND;TZID=UTC:20260509T233000
DTSTAMP:20260425T143715
CREATED:20260110T132449Z
LAST-MODIFIED:20260110T132550Z
UID:1797-1778319000-1778369400@grebe-evopaed.de
SUMMARY:ADHS | Kinder- und Jugendcoaching für Jungs
DESCRIPTION:Ihr Sohn  ist zwischen 10 (4. Klasse) und 16 Jahre alt und hat die Diagnose AD(H)S? \nSchämt sich vielleicht sogar dafür\, kommt mit sich und seinem Umfeld nicht so gut klar? \nEs möchte sich mit anderen betroffenen Jungs austauschen und mehr über das Thema AD(H)S erfahren? \nDann ist dieses Treffen genau das Richtige. \n  \nAnmeldung bitte per E-Mail unter: info@grebe-evopaed.de
URL:https://grebe-evopaed.de/event/adhs-kinder-und-jugendcoaching-fuer-jungs-2/
ATTACH;FMTTYPE=image/png:https://grebe-evopaed.de/wp-content/uploads/2025/01/Logo-ADHSEvopaed-e1768049896600.png
END:VEVENT
BEGIN:VEVENT
DTSTART;TZID=UTC:20260510T100000
DTEND;TZID=UTC:20260510T120000
DTSTAMP:20260425T143715
CREATED:20260110T132743Z
LAST-MODIFIED:20260110T132743Z
UID:1799-1778407200-1778414400@grebe-evopaed.de
SUMMARY:ADHS | Kinder- und Jugendcoaching für Mädchen
DESCRIPTION:Ihre Tochter ist zwischen 10 (4. Klasse) und 16 Jahre alt und hat die Diagnose AD(H)S?\nSchämt sich vielleicht sogar dafür\, kommt mit sich und seinem Umfeld nicht so gut klar?\nEs möchte sich mit anderen betroffenen Mädchen austauschen und mehr über das Thema AD(H)S erfahren? \nDann ist dieses Treffen genau das Richtige. \nAnmeldung bitte per E-Mail unter: info@grebe-evopaed.de
URL:https://grebe-evopaed.de/event/adhs-kinder-und-jugendcoaching-fuer-maedchen-2/
LOCATION:Praxis für praktische Pädagogik\, Rohrer Höhe 34\, Stuttgart\, 70565\, Deutschland
ATTACH;FMTTYPE=image/png:https://grebe-evopaed.de/wp-content/uploads/2025/01/Logo-ADHSEvopaed-e1768049896600.png
END:VEVENT
BEGIN:VEVENT
DTSTART;TZID=UTC:20260711T093000
DTEND;TZID=UTC:20260711T113000
DTSTAMP:20260425T143715
CREATED:20260110T132920Z
LAST-MODIFIED:20260110T132953Z
UID:1801-1783762200-1783769400@grebe-evopaed.de
SUMMARY:ADHS | Kinder- und Jugendcoaching für Mädchen
DESCRIPTION:Ihre Tochter ist zwischen 10 (4. Klasse) und 16 Jahre alt und hat die Diagnose AD(H)S?\nSchämt sich vielleicht sogar dafür\, kommt mit sich und seinem Umfeld nicht so gut klar?\nEs möchte sich mit anderen betroffenen Mädchen austauschen und mehr über das Thema AD(H)S erfahren? \nDann ist dieses Treffen genau das Richtige. \nAnmeldung bitte per E-Mail unter: info@grebe-evopaed.de
URL:https://grebe-evopaed.de/event/adhs-kinder-und-jugendcoaching-fuer-maedchen-3/
LOCATION:Praxis für praktische Pädagogik\, Rohrer Höhe 34\, Stuttgart\, 70565\, Deutschland
ATTACH;FMTTYPE=image/png:https://grebe-evopaed.de/wp-content/uploads/2025/01/Logo-ADHSEvopaed-e1768049896600.png
END:VEVENT
BEGIN:VEVENT
DTSTART;TZID=UTC:20261017T093000
DTEND;TZID=UTC:20261017T113000
DTSTAMP:20260425T143715
CREATED:20260110T133118Z
LAST-MODIFIED:20260110T133118Z
UID:1804-1792229400-1792236600@grebe-evopaed.de
SUMMARY:ADHS | Kinder- und Jugendcoaching für Jungs
DESCRIPTION:Ihr Sohn  ist zwischen 10 (4. Klasse) und 16 Jahre alt und hat die Diagnose AD(H)S? \nSchämt sich vielleicht sogar dafür\, kommt mit sich und seinem Umfeld nicht so gut klar? \nEs möchte sich mit anderen betroffenen Jungs austauschen und mehr über das Thema AD(H)S erfahren? \nDann ist dieses Treffen genau das Richtige. \n  \nAnmeldung bitte per E-Mail unter: info@grebe-evopaed.de
URL:https://grebe-evopaed.de/event/adhs-kinder-und-jugendcoaching-fuer-jungs-3/
LOCATION:Praxis für praktische Pädagogik\, Rohrer Höhe 34\, Stuttgart\, 70565\, Deutschland
ATTACH;FMTTYPE=image/png:https://grebe-evopaed.de/wp-content/uploads/2025/01/Logo-ADHSEvopaed-e1768049896600.png
END:VEVENT
BEGIN:VEVENT
DTSTART;TZID=UTC:20261018T093000
DTEND;TZID=UTC:20261018T113000
DTSTAMP:20260425T143715
CREATED:20260110T133229Z
LAST-MODIFIED:20260110T133229Z
UID:1806-1792315800-1792323000@grebe-evopaed.de
SUMMARY:ADHS Kinder und Jugendcoaching für Mädchen
DESCRIPTION:Ihre Tochter ist zwischen 10 (4. Klasse) und 16 Jahre alt und hat die Diagnose AD(H)S?\nSchämt sich vielleicht sogar dafür\, kommt mit sich und seinem Umfeld nicht so gut klar?\nEs möchte sich mit anderen betroffenen Mädchen austauschen und mehr über das Thema AD(H)S erfahren? \nDann ist dieses Treffen genau das Richtige. \nAnmeldung bitte per E-Mail unter: info@grebe-evopaed.de
URL:https://grebe-evopaed.de/event/adhs-kinder-und-jugendcoaching-fuer-maedchen-4/
LOCATION:Praxis für praktische Pädagogik\, Rohrer Höhe 34\, Stuttgart\, 70565\, Deutschland
ATTACH;FMTTYPE=image/png:https://grebe-evopaed.de/wp-content/uploads/2025/01/Logo-ADHSEvopaed-e1768049896600.png
END:VEVENT
END:VCALENDAR